BEGIN:VCALENDAR
VERSION:2.0
PRODID:-//CMAA Baltimore Chapter - ECPv6.15.12.2//NONSGML v1.0//EN
CALSCALE:GREGORIAN
METHOD:PUBLISH
X-WR-CALNAME:CMAA Baltimore Chapter
X-ORIGINAL-URL:https://cmaabaltimore.com
X-WR-CALDESC:Events for CMAA Baltimore Chapter
REFRESH-INTERVAL;VALUE=DURATION:PT1H
X-Robots-Tag:noindex
X-PUBLISHED-TTL:PT1H
BEGIN:VTIMEZONE
TZID:America/New_York
BEGIN:DAYLIGHT
TZOFFSETFROM:-0500
TZOFFSETTO:-0400
TZNAME:EDT
DTSTART:20220313T070000
END:DAYLIGHT
BEGIN:STANDARD
TZOFFSETFROM:-0400
TZOFFSETTO:-0500
TZNAME:EST
DTSTART:20221106T060000
END:STANDARD
BEGIN:DAYLIGHT
TZOFFSETFROM:-0500
TZOFFSETTO:-0400
TZNAME:EDT
DTSTART:20230312T070000
END:DAYLIGHT
BEGIN:STANDARD
TZOFFSETFROM:-0400
TZOFFSETTO:-0500
TZNAME:EST
DTSTART:20231105T060000
END:STANDARD
BEGIN:DAYLIGHT
TZOFFSETFROM:-0500
TZOFFSETTO:-0400
TZNAME:EDT
DTSTART:20240310T070000
END:DAYLIGHT
BEGIN:STANDARD
TZOFFSETFROM:-0400
TZOFFSETTO:-0500
TZNAME:EST
DTSTART:20241103T060000
END:STANDARD
END:VTIMEZONE
BEGIN:VEVENT
DTSTART;TZID=America/New_York:20230123T160000
DTEND;TZID=America/New_York:20230123T190000
DTSTAMP:20260425T201322
CREATED:20221217T015747Z
LAST-MODIFIED:20230114T221142Z
UID:10000017-1674489600-1674500400@cmaabaltimore.com
SUMMARY:Pathway To Success
DESCRIPTION:This event will discuss the many trainingopportunities available to any employeelevel in the industry. \nWe will focus on utilizing the developedcertifications to enhance career pathways byequipping staff with important developmentand understanding of management skills. \nWe will also discuss the newly introducedCACM certification along with trainingopportunities and offerings for the CCMapplicant. \nWe will also discuss recertification andrecent changes and requirements forspecific training during the renewal period. \n			\n			\n				\n				\n				\n				\n				\n				\n				\n				\n				\n				Tickets | cmaabaltimore.comMember: $40Non-Member: $45Owner/Student: 30.00 \nWhat’s IncludedAppetizers and 2 drink vouchers1 PDH/CEU | CMAA National \nLocation | Bar LouieThe Avenue at White Marsh8133 C Honeygo BlvdNottingham\, MD 21236 \n			\n				\n				\n				\n				\n				\n			\n				\n				\n				\n				\n				\n			\n				DOWNLOAD EVENT FLYER\n			\n			\n				\n				\n				\n				\n			\n				\n				\n				\n				\n				\n				\n				\n				\n				\n				\n				A Special Thank You To Our Event Sponsors: \n			\n				\n				\n				\n				\n				GOLD SPONSOR \n			\n				\n				\n				\n				\n				\n			\n				\n				\n				\n				\n				BRONZE SPONSOR \n			\n				\n				\n				\n				\n				\n			\n			\n				\n				\n				\n				\n			\n				\n				\n				\n				\n				\n				\n				\n				\n				\n				\n				SPONSORSHIPS AVAILABLE!\nGOLD | $300 (One Available)Includes: \n\nCompany Logo on Event Signage\nCompany Logo on Event Flyer (Large)\nCompany Logo on CMAA Website (Event Page Permanently | Home Page until Next Event)\nCustom Social Media Post from CMAA Balt. Chap. with Company Logo\nVerbal Mention at Event\n2 Event Tickets\n\n			\n				\n				\n				\n				\n				SILVER | $200 (Multiple Available)Includes: \n\nCompany Logo on Event Flyer (Medium)\nCompany Logo on CMAA Website (Event Page Permanently)\nGrouped Social Media Post from CMAA Baltimore Chapter\nVerbal Mention at Event\n1 Event Ticket\n\n			\n				\n				\n				\n				\n				BRONZE | $100 (Multiple Available)Includes: \n\nCompany Logo on Event Flyer (Small)\nCompany Logo on CMAA Website (Event Page Permanently)\nGrouped Social Media Post from CMAA Baltimore Chapter\nVerbal Mention at Event
URL:https://cmaabaltimore.com/event/pathway-to-success/
LOCATION:Bar Louie\, 8133 C Honeygo Blvd\, Nottingham\, MD\, 21236\, United States
CATEGORIES:Career Event
ATTACH;FMTTYPE=image/jpeg:https://cmaabaltimore.com/wp-content/uploads/2022/12/Pathway-to-Success-4x6-1.jpg
ORGANIZER;CN="Nichole Penick":MAILTO:nichole.penick@dfiengineering.com
END:VEVENT
END:VCALENDAR