BEGIN:VCALENDAR
VERSION:2.0
PRODID:-//CMAA Baltimore Chapter - ECPv6.15.12.2//NONSGML v1.0//EN
CALSCALE:GREGORIAN
METHOD:PUBLISH
X-ORIGINAL-URL:https://cmaabaltimore.com
X-WR-CALDESC:Events for CMAA Baltimore Chapter
REFRESH-INTERVAL;VALUE=DURATION:PT1H
X-Robots-Tag:noindex
X-PUBLISHED-TTL:PT1H
BEGIN:VTIMEZONE
TZID:America/New_York
BEGIN:DAYLIGHT
TZOFFSETFROM:-0500
TZOFFSETTO:-0400
TZNAME:EDT
DTSTART:20220313T070000
END:DAYLIGHT
BEGIN:STANDARD
TZOFFSETFROM:-0400
TZOFFSETTO:-0500
TZNAME:EST
DTSTART:20221106T060000
END:STANDARD
BEGIN:DAYLIGHT
TZOFFSETFROM:-0500
TZOFFSETTO:-0400
TZNAME:EDT
DTSTART:20230312T070000
END:DAYLIGHT
BEGIN:STANDARD
TZOFFSETFROM:-0400
TZOFFSETTO:-0500
TZNAME:EST
DTSTART:20231105T060000
END:STANDARD
BEGIN:DAYLIGHT
TZOFFSETFROM:-0500
TZOFFSETTO:-0400
TZNAME:EDT
DTSTART:20240310T070000
END:DAYLIGHT
BEGIN:STANDARD
TZOFFSETFROM:-0400
TZOFFSETTO:-0500
TZNAME:EST
DTSTART:20241103T060000
END:STANDARD
END:VTIMEZONE
BEGIN:VEVENT
DTSTART;TZID=America/New_York:20230309T080000
DTEND;TZID=America/New_York:20230309T110000
DTSTAMP:20260424T200954
CREATED:20230213T153939Z
LAST-MODIFIED:20230213T153940Z
UID:10000018-1678348800-1678359600@cmaabaltimore.com
SUMMARY:CMAA Safety & Ethics Training
DESCRIPTION:This workshop provides an overview of how construction safety and ethics can be interrelated. We will examine the impact of these topics on the construction manager and discuss behaviors that go beyond the basics of compliance. \nThe workshop is recommended for anyone involved in the management\, coordination\, or execution of construction projects. \nLearning Objectives\n\nState the CM’s code of conduct\nExplain the CM’s role of safety\nContrast legal and ethical issues of construction safety\nIdentify ethical issues affecting safety\nUtilize safety management to avoid safety related ethical issues\n\n			\n			\n				\n				\n				\n				\n				\n				\n				\n				\n				\n				Tickets | cmaabaltimore.comMember: $25Non-Member: $30Owner: 20 \nWhat’s IncludedBreakfast and 2 PDH/CEU Credits. The session is designed to meet the newly required CEU/PDH for safety or ethics. \nLocation | JMT40 Wight Avenue.\, Hunt Valley\, MD 21030 \nSpeakers \n			\n				\n				\n				\n				\n				\n					\n					\n						Aaron Hunter\, CCM\, CHST\, LEED AP BD+C\n						MBP | Director of Safety \n					\n				\n			\n				\n				\n				\n				\n				\n					\n					\n						Jennifer Sproul\, LEED AP\n						MCCEI | President \n					\n				\n			\n				\n				\n				\n				\n				\n					\n					\n						Ree Miskimon\, CPSM\n						CMAA Baltimore | DEI (CODE) Chair \n					\n				\n			\n				DOWNLOAD EVENT FLYER
URL:https://cmaabaltimore.com/event/cmaa-safety-ethics-training/
LOCATION:JMT\, 40 Wight Ave\, Hunt Valley\, MD\, 21030\, United States
CATEGORIES:Training Event
ORGANIZER;CN="Ree Miskimon":MAILTO:rmiskimon@cuberootinc.com
END:VEVENT
END:VCALENDAR