BEGIN:VCALENDAR
VERSION:2.0
PRODID:-//CMAA Baltimore Chapter - ECPv6.15.12.2//NONSGML v1.0//EN
CALSCALE:GREGORIAN
METHOD:PUBLISH
X-WR-CALNAME:CMAA Baltimore Chapter
X-ORIGINAL-URL:https://cmaabaltimore.com
X-WR-CALDESC:Events for CMAA Baltimore Chapter
REFRESH-INTERVAL;VALUE=DURATION:PT1H
X-Robots-Tag:noindex
X-PUBLISHED-TTL:PT1H
BEGIN:VTIMEZONE
TZID:America/New_York
BEGIN:DAYLIGHT
TZOFFSETFROM:-0500
TZOFFSETTO:-0400
TZNAME:EDT
DTSTART:20240310T070000
END:DAYLIGHT
BEGIN:STANDARD
TZOFFSETFROM:-0400
TZOFFSETTO:-0500
TZNAME:EST
DTSTART:20241103T060000
END:STANDARD
BEGIN:DAYLIGHT
TZOFFSETFROM:-0500
TZOFFSETTO:-0400
TZNAME:EDT
DTSTART:20250309T070000
END:DAYLIGHT
BEGIN:STANDARD
TZOFFSETFROM:-0400
TZOFFSETTO:-0500
TZNAME:EST
DTSTART:20251102T060000
END:STANDARD
BEGIN:DAYLIGHT
TZOFFSETFROM:-0500
TZOFFSETTO:-0400
TZNAME:EDT
DTSTART:20260308T070000
END:DAYLIGHT
BEGIN:STANDARD
TZOFFSETFROM:-0400
TZOFFSETTO:-0500
TZNAME:EST
DTSTART:20261101T060000
END:STANDARD
END:VTIMEZONE
BEGIN:VEVENT
DTSTART;TZID=America/New_York:20250409T080000
DTEND;TZID=America/New_York:20250409T120000
DTSTAMP:20260422T165904
CREATED:20250210T230231Z
LAST-MODIFIED:20250407T193724Z
UID:10000040-1744185600-1744200000@cmaabaltimore.com
SUMMARY:2025 CMAA Baltimore - Spring Education Workshop
DESCRIPTION:Wednesday April 9\, 2025 – 8:00 am – noon\nJMT\n40 Wight Avenue\nHunt Valley\, MD 21030\n			\n				\n				\n				\n				\n				\n			\n				\n				\n				\n				\n				REGISTRATION CLOSES Monday 4/7 AT 6p. (Sponsor registrations close on 3/30)\n\nThe Construction Management Association of America’s (CMAA) mission is to promote\, support\, educate\, and develop professionals who lead the delivery of programs and projects within the built environment. This interactive workshop supports this objective.\nTickets – Member $50 | Non-Member $75 | Owner $25 |Student – FREE (Must provide Student ID at the event)\nWhat’s Included\nBreakfast and 3 PDH/CEU Credits  \nSponsorship\nPlatinum | $300• 2 attendees• Customized social media post• Recognition at the event and breakfast table\nGold | $150• 1 attendee• Logo shared on social media• Recognition at the event\nFor Social Media Posts included with Sponsorships\, please email graphics and post information to CMAA Baltimore Treasurer\, Gail Prunier gprunier@jmt.com \nInquiries\nFor inquiries about the event and Call for Presentation\, please contact the CMAA Baltimore Chapter Education Chair\, Dr. Safa Arya at safa.arya@aryaconsultants.com \n  \nCMAA Spring Workshop – Event Flyer
URL:https://cmaabaltimore.com/event/spring-education-workshop/
LOCATION:JMT\, 40 Wight Ave\, Hunt Valley\, MD\, 21030\, United States
CATEGORIES:Training Event
ATTACH;FMTTYPE=image/jpeg:https://cmaabaltimore.com/wp-content/uploads/2025/02/springworkshop2025.jpg
ORGANIZER;CN="Safa Arya":MAILTO:safa.arya@aryaconsultants.com
END:VEVENT
END:VCALENDAR