BEGIN:VCALENDAR
VERSION:2.0
PRODID:-//CMAA Baltimore Chapter - ECPv6.15.12.2//NONSGML v1.0//EN
CALSCALE:GREGORIAN
METHOD:PUBLISH
X-ORIGINAL-URL:https://cmaabaltimore.com
X-WR-CALDESC:Events for CMAA Baltimore Chapter
REFRESH-INTERVAL;VALUE=DURATION:PT1H
X-Robots-Tag:noindex
X-PUBLISHED-TTL:PT1H
BEGIN:VTIMEZONE
TZID:America/New_York
BEGIN:DAYLIGHT
TZOFFSETFROM:-0500
TZOFFSETTO:-0400
TZNAME:EDT
DTSTART:20200308T070000
END:DAYLIGHT
BEGIN:STANDARD
TZOFFSETFROM:-0400
TZOFFSETTO:-0500
TZNAME:EST
DTSTART:20201101T060000
END:STANDARD
BEGIN:DAYLIGHT
TZOFFSETFROM:-0500
TZOFFSETTO:-0400
TZNAME:EDT
DTSTART:20210314T070000
END:DAYLIGHT
BEGIN:STANDARD
TZOFFSETFROM:-0400
TZOFFSETTO:-0500
TZNAME:EST
DTSTART:20211107T060000
END:STANDARD
BEGIN:DAYLIGHT
TZOFFSETFROM:-0500
TZOFFSETTO:-0400
TZNAME:EDT
DTSTART:20220313T070000
END:DAYLIGHT
BEGIN:STANDARD
TZOFFSETFROM:-0400
TZOFFSETTO:-0500
TZNAME:EST
DTSTART:20221106T060000
END:STANDARD
END:VTIMEZONE
BEGIN:VEVENT
DTSTART;TZID=America/New_York:20210720T120000
DTEND;TZID=America/New_York:20210720T130000
DTSTAMP:20260424T002137
CREATED:20210602T230343Z
LAST-MODIFIED:20210602T230343Z
UID:10000005-1626782400-1626786000@cmaabaltimore.com
SUMMARY:The Good\, Better\, Best of Proposal Writing
DESCRIPTION:The art and ability of writing compelling\, persuasive\, and compliant proposal content is still in high demand.  Join this webinar and a panel of experts to learn ways to advance the quality and effectiveness of your proposal writing. \nNOTE*** Once you have completed your purchase for this event you will receive an email with a registration link. This event requires a separate registration on the organizer’s website. The registration is only your name and email address\, very simple to fill out. If\, for some reason\, the link to the registration is not included in your email\, kindly contact Larry Hughes @ 443-536-6659 and he will email the link to you privately.
URL:https://cmaabaltimore.com/event/the-good-better-best-of-proposal-writing/
LOCATION:https://cmaabaltimore.com/event/the-good-better-best-of-proposal-writing/
CATEGORIES:Virtual
ATTACH;FMTTYPE=image/jpeg:https://cmaabaltimore.com/wp-content/uploads/2021/06/GoodBetterBest_CMAA-Baltimore_2021-07-20.jpg
END:VEVENT
END:VCALENDAR