BEGIN:VCALENDAR
VERSION:2.0
PRODID:-//CMAA Baltimore Chapter - ECPv6.15.12.2//NONSGML v1.0//EN
CALSCALE:GREGORIAN
METHOD:PUBLISH
X-ORIGINAL-URL:https://cmaabaltimore.com
X-WR-CALDESC:Events for CMAA Baltimore Chapter
REFRESH-INTERVAL;VALUE=DURATION:PT1H
X-Robots-Tag:noindex
X-PUBLISHED-TTL:PT1H
BEGIN:VTIMEZONE
TZID:America/New_York
BEGIN:DAYLIGHT
TZOFFSETFROM:-0500
TZOFFSETTO:-0400
TZNAME:EDT
DTSTART:20220313T070000
END:DAYLIGHT
BEGIN:STANDARD
TZOFFSETFROM:-0400
TZOFFSETTO:-0500
TZNAME:EST
DTSTART:20221106T060000
END:STANDARD
BEGIN:DAYLIGHT
TZOFFSETFROM:-0500
TZOFFSETTO:-0400
TZNAME:EDT
DTSTART:20230312T070000
END:DAYLIGHT
BEGIN:STANDARD
TZOFFSETFROM:-0400
TZOFFSETTO:-0500
TZNAME:EST
DTSTART:20231105T060000
END:STANDARD
BEGIN:DAYLIGHT
TZOFFSETFROM:-0500
TZOFFSETTO:-0400
TZNAME:EDT
DTSTART:20240310T070000
END:DAYLIGHT
BEGIN:STANDARD
TZOFFSETFROM:-0400
TZOFFSETTO:-0500
TZNAME:EST
DTSTART:20241103T060000
END:STANDARD
END:VTIMEZONE
BEGIN:VEVENT
DTSTART;TZID=America/New_York:20230606T080000
DTEND;TZID=America/New_York:20230606T153000
DTSTAMP:20260425T125630
CREATED:20230213T172412Z
LAST-MODIFIED:20230526T162044Z
UID:10000019-1686038400-1686065400@cmaabaltimore.com
SUMMARY:2023 CMAA Baltimore Chapter Golf Outing & Project Achievement Award Program
DESCRIPTION:Tuesday\, June 6\, 2023\nGreystone Golf Course\n2115 White Hall Road\, White Hall\, MD 21161 \n			\n				\n				\n				\n				\n				Registration Deadline\nMay 26\, 2023\n			\n				\n				\n				\n				\n				Join us for the 14th Annual CMAA Baltimore Chapter Golf Outing and Project Achievement Award Program. \nCaptain’s Choice format\nCheck in 8:00 am\, Shotgun start at 9:00 am \n$185/golfer or $740/foursome\nIncludes continental breakfast\, greens fees\, cart\, lunch\, and Award Program. \n$110/owner individual golfer or $440/owner foursome\nIncludes continental breakfast\, greens fees\, cart\, lunch\, and Award Program. \n$75/person\nProject Achievement Award Program luncheon only (expected to begin around 2 pm). \n$35/person – owner individual\nProject Achievement Award Program luncheon only (expected to begin around 2 pm). \nSponsorships Available\nProceeds from the tournament benefit the CMAA Baltimore Chapter Scholarship Program\, contributing to a solid foundation in the construction industry. \nPrizes\nAwarded for closest to the pin & longest drive \n  \n			\n				\n				\n				\n				\n				SPONSORSHIP OPPORTUNITIES\nTournament Host Sponsor | $1\,000\nIncludes welcome signage prominently featured during both the Golf Outing and Awards Program. Also includes golf hole sponsorship\, logo on tournament rules sheet and the CMAA Baltimore website. \nGolf Ball Sponsor | $600\nIncludes sponsor’s logo with CMAA Baltimore’s logo on golf balls. Each golfer will receive a sleeve of golf balls. Sponsor has the option to provide their own printed golf balls. \nLunch Sponsor | $500\nIncludes golf hole sponsorship and signage prominently displayed during lunch. Also includes logo on the tournament rules sheet and the CMAA Baltimore website. \nGolf Towel Sponsor | $500\nIncludes CMAA Baltimore Chapter’s logo on towels. Each golfer will receive a towel. \nOwner / Student Sponsor | $400\nIncludes golf hole sponsorship and signage prominently displayed during the awards banquet. This sponsorship will aid in the cost deferment of owner and student golf and awards banquet tickets. Also includes logo on the CMAA Baltimore website. \nBreakfast Sponsor | $350\nIncludes golf hole sponsorship and signage prominently displayed during breakfast. Also includes logo on the tournament rules sheet and the CMAA Baltimore website. \nHole Sponsor | $250\nIncludes golf hole sponsorship\, logo on the tournament rules sheet and CMAA Baltimore website. \n  \n \n			\n				\n				\n				\n				\n				NOTE*** Tickets and Sponsorships can be purchased online via this website page OR paid by check. In order to pay by check and setup players\, teams and/or sponsorships without using our website\, please download the Event Flyer PDF below then coordinate with Mike Trail to complete your registration. His contact information is shown below under “Organizer.”\n			\n				DOWNLOAD EVENT FLYER
URL:https://cmaabaltimore.com/event/2023-cmaa-baltimore-chapter-golf-outing-project-achievement-award-program/
LOCATION:Greystone Golf Course\, 2115 White Hall Road\, White Hall\, MD\, 21161\, United States
CATEGORIES:Golf Outing
ORGANIZER;CN="Mike Trail":MAILTO:mtrail@gfnet.com
END:VEVENT
END:VCALENDAR