BEGIN:VCALENDAR
VERSION:2.0
PRODID:-//CMAA Baltimore Chapter - ECPv6.15.12.2//NONSGML v1.0//EN
CALSCALE:GREGORIAN
METHOD:PUBLISH
X-WR-CALNAME:CMAA Baltimore Chapter
X-ORIGINAL-URL:https://cmaabaltimore.com
X-WR-CALDESC:Events for CMAA Baltimore Chapter
REFRESH-INTERVAL;VALUE=DURATION:PT1H
X-Robots-Tag:noindex
X-PUBLISHED-TTL:PT1H
BEGIN:VTIMEZONE
TZID:America/New_York
BEGIN:DAYLIGHT
TZOFFSETFROM:-0500
TZOFFSETTO:-0400
TZNAME:EDT
DTSTART:20230312T070000
END:DAYLIGHT
BEGIN:STANDARD
TZOFFSETFROM:-0400
TZOFFSETTO:-0500
TZNAME:EST
DTSTART:20231105T060000
END:STANDARD
BEGIN:DAYLIGHT
TZOFFSETFROM:-0500
TZOFFSETTO:-0400
TZNAME:EDT
DTSTART:20240310T070000
END:DAYLIGHT
BEGIN:STANDARD
TZOFFSETFROM:-0400
TZOFFSETTO:-0500
TZNAME:EST
DTSTART:20241103T060000
END:STANDARD
BEGIN:DAYLIGHT
TZOFFSETFROM:-0500
TZOFFSETTO:-0400
TZNAME:EDT
DTSTART:20250309T070000
END:DAYLIGHT
BEGIN:STANDARD
TZOFFSETFROM:-0400
TZOFFSETTO:-0500
TZNAME:EST
DTSTART:20251102T060000
END:STANDARD
END:VTIMEZONE
BEGIN:VEVENT
DTSTART;TZID=America/New_York:20240227T103000
DTEND;TZID=America/New_York:20240227T140000
DTSTAMP:20260424T055108
CREATED:20240108T163413Z
LAST-MODIFIED:20240227T142112Z
UID:10000026-1709029800-1709042400@cmaabaltimore.com
SUMMARY:Unity Unveiled: Empowering Tomorrow Together
DESCRIPTION:February 27\, 2024\nTickets: $39.99  – This ticket provides you access to the entire program and up to (2) PDHs\, inclusive of catered lunch and coffee/beverage station. \n  \nTo Register – please go to the MTBMA page: Unity Unveiled: Empowering Tomorrow Together – Maryland Transportation Builders & Materials Association (mtbma.org) \n(From MTBMA Event Page:) \nJoin MTBMA and CMAA Baltimore for a partnership event that unveils Maryland agencies’ cutting-edge strategies that champion a people-first approach. “Building a Diverse\, Inclusive\, and Empowered Tomorrow Together” serves as the guiding theme for this first-of-its-kind state agency and industry forum. Together\, we will explore how the Maryland Transit Administration (MTA)\, the Maryland Transportation Authority (MDTA)\, and industry firms are fostering diversity\, promoting inclusivity\, and empowering their teams to shape a brighter future for all. \nDiscover insights from industry leaders Kelly Fenner\, Percy Dangerfield\, and Janie Tiedeman as they dive into the crucial roles they play in driving transformation within their organizations\, workforce\, and projects to create a positive impact on the industry. \nModerator\, Ree Miskimon\, along with our panelists will discuss how they have embraced innovative leadership practices to enhance their respective agency operations. Special guest\, Tony Bridges\, MDOT’s Assistant Secretary for Transportation Equity & Engagement\, will join the discussion! \nDuring this discussion\, attendees can expect to: \n1. Gain valuable insights into the strategies and initiatives that MDTA\, MTA\, and industry firms have implemented to prioritize a human-forward approach to leadership. \n2. Explore how these agencies and industry firms are driving positive change in their business practices\, workforce development\, and the projects they are currently undertaking. \n3. Learn about the challenges and successes encountered by MDTA\, MTA\, and industry firms as they strive to lead with a focus on their people and communities. \n4. Engage with our panelists through Q&A sessions\, allowing for a deeper understanding of the strategies employed by these agencies. \nDon’t miss out on this informative event that promises to shed light on the innovative approaches taken by Maryland agencies as they lead with a human-forward mindset. Register now to reserve your spot and be part of this enlightening discussion. We look forward to seeing you there! \nDate: February 27\, 2024 \nTime: 11:00am – 2:00pm \n10:30 – 11:00 | Registration and Networking \n11:00 – 12:00 | Panel Discussion \n12:00 – 12:30 | Lunch Break \n12:30 – 2:00 | Continued Discussion \nLocation: Sunrise Safety Services\, Inc.\, 6711 Baymeadow Dr\, Suite D\, Glen Burnie\, MD 21060 \nRegistration: https://www.mtbma.org/events/unity-unveiled-empowering-tomorrow-together- \nSpeakers: Kelly Fenner\, MTA’s Director of DEI\, Percy Dangerfield\, MDTA’s Chief Administrative Officer\, and Janie Tiedeman\, Vice President at RS&H \nModerator: Ree Miskimon \nSpecial Guest: Tony Bridges\, MDOT’s Assistant Secretary for Transportation Equity & Engagement \nPDH’s will be available \n 
URL:https://cmaabaltimore.com/event/unity-unveiled-empowering-tomorrow-together/
LOCATION:Sunrise Safety Services\, 6711 Baymeadow Drive\, STE D\, Glen Burnie\, MD\, 21060-6401\, United States
ATTACH;FMTTYPE=image/jpeg:https://cmaabaltimore.com/wp-content/uploads/2024/01/DEI-Updated.jpg
END:VEVENT
END:VCALENDAR