BEGIN:VCALENDAR
VERSION:2.0
PRODID:-//CMAA Baltimore Chapter - ECPv6.15.12.2//NONSGML v1.0//EN
CALSCALE:GREGORIAN
METHOD:PUBLISH
X-ORIGINAL-URL:https://cmaabaltimore.com
X-WR-CALDESC:Events for CMAA Baltimore Chapter
REFRESH-INTERVAL;VALUE=DURATION:PT1H
X-Robots-Tag:noindex
X-PUBLISHED-TTL:PT1H
BEGIN:VTIMEZONE
TZID:America/New_York
BEGIN:DAYLIGHT
TZOFFSETFROM:-0500
TZOFFSETTO:-0400
TZNAME:EDT
DTSTART:20200308T070000
END:DAYLIGHT
BEGIN:STANDARD
TZOFFSETFROM:-0400
TZOFFSETTO:-0500
TZNAME:EST
DTSTART:20201101T060000
END:STANDARD
BEGIN:DAYLIGHT
TZOFFSETFROM:-0500
TZOFFSETTO:-0400
TZNAME:EDT
DTSTART:20210314T070000
END:DAYLIGHT
BEGIN:STANDARD
TZOFFSETFROM:-0400
TZOFFSETTO:-0500
TZNAME:EST
DTSTART:20211107T060000
END:STANDARD
BEGIN:DAYLIGHT
TZOFFSETFROM:-0500
TZOFFSETTO:-0400
TZNAME:EDT
DTSTART:20220313T070000
END:DAYLIGHT
BEGIN:STANDARD
TZOFFSETFROM:-0400
TZOFFSETTO:-0500
TZNAME:EST
DTSTART:20221106T060000
END:STANDARD
BEGIN:DAYLIGHT
TZOFFSETFROM:-0500
TZOFFSETTO:-0400
TZNAME:EDT
DTSTART:20230312T070000
END:DAYLIGHT
BEGIN:STANDARD
TZOFFSETFROM:-0400
TZOFFSETTO:-0500
TZNAME:EST
DTSTART:20231105T060000
END:STANDARD
BEGIN:DAYLIGHT
TZOFFSETFROM:-0500
TZOFFSETTO:-0400
TZNAME:EDT
DTSTART:20240310T070000
END:DAYLIGHT
BEGIN:STANDARD
TZOFFSETFROM:-0400
TZOFFSETTO:-0500
TZNAME:EST
DTSTART:20241103T060000
END:STANDARD
BEGIN:DAYLIGHT
TZOFFSETFROM:-0500
TZOFFSETTO:-0400
TZNAME:EDT
DTSTART:20250309T070000
END:DAYLIGHT
BEGIN:STANDARD
TZOFFSETFROM:-0400
TZOFFSETTO:-0500
TZNAME:EST
DTSTART:20251102T060000
END:STANDARD
END:VTIMEZONE
BEGIN:VEVENT
DTSTART;TZID=America/New_York:20241022T150000
DTEND;TZID=America/New_York:20241022T170000
DTSTAMP:20260424T134334
CREATED:20240802T174830Z
LAST-MODIFIED:20241017T163951Z
UID:10000036-1729609200-1729616400@cmaabaltimore.com
SUMMARY:2024 SKEET TRAP WOBBLE
DESCRIPTION:October 22\, 2024\nLoch Raven Skeet & Trap Center – SOLD OUT!! – Please contact us for requests to be placed on wait list.\n12301 Dulaney Valley Road\, Phoenix\, MD 21131 \n			\n				\n				\n				\n				\n				Foster teamwork between industry colleagues and establish new connections. \nLimited Number Of Tickets Available:\nIn order to provide a personalized and safe experience\, there is a limit to the number of tickets that will be sold to this event. \nTicket Prices:\n\nOwner/Student – $30\nMember – $65\nNon-Member – $75\n\nWhere:\nMaryland’s premier clay shooting destination since 1956\, the venue is located in a beautiful wooded setting within the Loch Raven Reservoir Park in Baltimore County. \nWho:\nAnyone can participate\, prior experience is not required. LRSTC was created for recreational\, educational\, charitable\, and non-profit purposes. The center will be closed to the public for this event\, and will provide several volunteers to guide us. Practice in a controlled\, safe\, and welcoming environment. \nSafety:\nAll visitors are required to complete the center’s shooter registration prior to arrival. This consists of a review of safety rules\, three short safety videos\, and a quiz available here: https://lochravenskeettrap.com/new-shooter-registration-rules/ \nWhat’s Included:\n\nShotgun rental & ammunition\nHearing & eye protection\nGuidance from certified instructors\nWater & snacks\nPrivate use of the entire facility\n\n \n			\n				DOWNLOAD EVENT FLYER\n			\n			\n				\n				\n				\n				\n			\n				\n				\n			\n				\n				\n				\n				\n				\n				\n				\n				\n				\n				\n				\n				\n				\n				\n				\n				\n				\n				Misconduct Policy for CMAA-Baltimore Chapter EventsCMAA-Baltimore Chapter wishes to create a welcoming environment for events and conferences\, including social events related to conferences. Attendees are expected to conduct themselves professionally. Prohibited conduct includes\, but is not limited to\, the following: 1) harassment based on race\, gender\, sexual orientation\, disability or any other protected status\, as provided by local\, state or federal law; 2) sexual harassment\, including unwelcome attention\, stalking and physical contact; 3) abusive conduct that has the purpose or effect of unreasonably interfering with another person’s ability to enjoy or participate in the event\, and 4) undue interruption of any event\, speaker or session. Any person who has been subjected to prohibited conduct or who has witnessed such conduct is encouraged to notify a CMAA-Baltimore board member. CMAA-Baltimore reserves the right to take any action it deems appropriate in response to such conduct by any person\, including removal of that person from the event\, prohibiting attendance at future events\, and suspension of membership.By registering for this event\, you agree to abide by the terms as stated above.
URL:https://cmaabaltimore.com/event/2024-skeet-trap-wobble/
LOCATION:Loch Raven Skeet & Trap Shoot\, 12301 Dulaney Valley Rd\, Phoenix\, MD\, 21131\, United States
CATEGORIES:Networking Event,Skeet Shoot
ATTACH;FMTTYPE=image/png:https://cmaabaltimore.com/wp-content/uploads/2024/08/2024-Skeet-Graphic.png
ORGANIZER;CN="Dianna Wenzlaff":MAILTO:dwenzlaff@bcps.org
END:VEVENT
BEGIN:VEVENT
DTSTART;TZID=America/New_York:20231003T150000
DTEND;TZID=America/New_York:20231003T170000
DTSTAMP:20260424T134334
CREATED:20230826T204220Z
LAST-MODIFIED:20231003T163445Z
UID:10000023-1696345200-1696352400@cmaabaltimore.com
SUMMARY:SKEET TRAP WOBBLE
DESCRIPTION:October 3\, 2023\nLoch Raven Skeet & Trap Center\n12301 Dulaney Valley Road\, Phoenix\, MD 21131 \n			\n				\n				\n				\n				\n				Foster teamwork between industry colleagues and establish new connections. \nLimited Number Of Tickets Available:\nIn order to provide a personalized and safe experience\, there is a limit to the number of tickets that will be sold to this event. \nTicket Prices:\n\nOwner – $30\nMember – $65\nNon-Member – $75\n\nWhere:\nMaryland’s premier clay shooting destination since 1956\, the venue is located in a beautiful wooded setting within the Loch Raven Reservoir Park in Baltimore County. \nWho:\nAnyone can participate\, prior experience is not required. LRSTC was created for recreational\, educational\, charitable\, and non-profit purposes. The center will be closed to the public for this event\, and will provide several volunteers to guide us. Practice in a controlled\, safe\, and welcoming environment. \nSafety:\nAll visitors are required to complete the center’s shooter registration prior to arrival. This consists of a review of safety rules\, three short safety videos\, and a quiz available here: https://lochravenskeettrap.com/new-shooter-registration-rules/ \nWhat’s Included:\n\nShotgun rental & ammunition\nHearing & eye protection\nGuidance from certified instructors\nWater & snacks\nPrivate use of the entire facility\n\nAfterward:\nJoin us for Happy Hour at Peerce’s just around the corner. Several of us will be heading over there for dinner and drinks. Happy Hour is not included in the registration cost of the Skeet Shoot event but it will be good for networking and overall fun. \nHere is the link for Peerce’s so you can take a look at their menu ahead of time: PEERCE’S \n12460 Dulaney Valley Road\, Phoenix\, MD 21131 \n			\n				DOWNLOAD EVENT FLYER
URL:https://cmaabaltimore.com/event/skeet-trap-wobble/
LOCATION:Loch Raven Skeet & Trap Shoot\, 12301 Dulaney Valley Rd\, Phoenix\, MD\, 21131\, United States
CATEGORIES:Networking Event,Skeet Shoot
ORGANIZER;CN="Dianna Wenzlaff":MAILTO:dwenzlaff@bcps.org
END:VEVENT
BEGIN:VEVENT
DTSTART;TZID=America/New_York:20221018T150000
DTEND;TZID=America/New_York:20221018T170000
DTSTAMP:20260424T134334
CREATED:20220906T230133Z
LAST-MODIFIED:20221012T195809Z
UID:10000014-1666105200-1666112400@cmaabaltimore.com
SUMMARY:SKEET OR TRAP SHOOT
DESCRIPTION:October 18\, 2022\nLoch Raven Skeet & Trap Center\n12301 Dulaney Valley Road\, Phoenix\, MD 21131 \n			\n				\n				\n				\n				\n				Registration Deadline\nTickets: October 17\, 2022\n			\n				\n				\n				\n				\n				Foster teamwork between industry colleagues and establish new connections. \nLimited Number Of Tickets Available:\nIn order to provide a personalized and safe experience\, there is a limit to the number of tickets that will be sold to this event. \nTicket Prices:\n\nOwner – $55\nMember – $65\nNon-Member – $75\n\nWhere:\nMaryland’s premier clay shooting destination since 1956\, the venue is located in a beautiful wooded setting within the Loch Raven Reservoir Park in Baltimore County. \nWho:\nAnyone can participate\, prior experience is not required. LRSTC was created for recreational\, educational\, charitable\, and non-profit purposes. The center will be closed to the public for this event\, and will provide several volunteers to guide us. Practice in a controlled\, safe\, and welcoming environment. \nSafety:\nAll visitors are required to complete the center’s shooter registration prior to arrival. This consists of a review of safety rules\, three short safety videos\, and a quiz available here: https://lochravenskeettrap.com/new-shooter-registration-rules/ \nWhat’s Included:\n\nShotgun rental & ammunition\nHearing & eye protection\nGuidance from certified instructors\nWater & snacks\nPrivate use of the entire facility\n\nAfterward:\nJoin us for Happy Hour at Peerce’s just around the corner. Several of us will be heading over there for dinner and drinks. Happy Hour is not included in the registration cost of the Skeet Shoot event but it will be good for networking and overall fun. \nHere is the link for Peerce’s so you can take a look at their menu ahead of time: PEERCE’S \n12460 Dulaney Valley Road\, Phoenix\, MD 21131 \n			\n				DOWNLOAD EVENT FLYER
URL:https://cmaabaltimore.com/event/2022-skeet-trap-shoot/
LOCATION:Loch Raven Skeet & Trap Shoot\, 12301 Dulaney Valley Rd\, Phoenix\, MD\, 21131\, United States
CATEGORIES:Skeet Shoot
ORGANIZER;CN="Dianna Wenzlaff":MAILTO:dwenzlaff@bcps.org
END:VEVENT
BEGIN:VEVENT
DTSTART;TZID=America/New_York:20210921T150000
DTEND;TZID=America/New_York:20210921T170000
DTSTAMP:20260424T134334
CREATED:20210817T210709Z
LAST-MODIFIED:20210917T120633Z
UID:10000009-1632236400-1632243600@cmaabaltimore.com
SUMMARY:Skeet Shoot
DESCRIPTION:September 21\, 2021\nLoch Raven Skeet & Trap Center\n12301 Dulaney Valley Road\, Phoenix\, MD 21131 \n			\n				\n				\n				\n				\n				Foster teamwork between industry colleagues and establish new connections. \nAbout The Event\nWhere: Maryland’s premier clay shooting destination since 1956\, the venue is located in a beautiful wooded setting within the Loch Raven Reservoir Park in Baltimore County. \nWho: Anyone can participate\, prior experience is not required. LRSTC was created for recreational\, educational\, charitable and non-profit purposes. The center will be closed to the public for this event and will provide several volunteers to guide us. Practice in a controlled\, safe\, and welcoming environment. \nSafety: All visitors are required to complete the center’s shooter registration prior to arrival. This consists of a review of safety rules\, three short safety videos\, and a quiz available here: Shooter Registration Rules \n			\n				\n				\n				\n				\n				LIMITED NUMBER OF TICKETS AVAILABLE\nIn order to provide a personalized and safe experience at the event\, only a limited number of tickets will be available. \nWhat’s Included\n\nShotgun rental & ammunition\nHearing & eye protection\nGuidance from certified instructors\nWater & snacks\nPrivate use of the entire facility\n\nQuestions\nGail Prunier: gprunier@jmt.com \n			\n				DOWNLOAD EVENT FLYER
URL:https://cmaabaltimore.com/event/skeet-shoot/
LOCATION:Loch Raven Skeet & Trap Shoot\, 12301 Dulaney Valley Rd\, Phoenix\, MD\, 21131\, United States
CATEGORIES:Skeet Shoot
ORGANIZER;CN="Gail Prunier":MAILTO:gprunier@jmt.com
END:VEVENT
END:VCALENDAR